BEGIN:VCALENDAR
VERSION:2.0
PRODID:-//Codecam - ECPv6.0.13//NONSGML v1.0//EN
CALSCALE:GREGORIAN
METHOD:PUBLISH
X-WR-CALNAME:Codecam
X-ORIGINAL-URL:https://www.codecam.be
X-WR-CALDESC:Events for Codecam
REFRESH-INTERVAL;VALUE=DURATION:PT1H
X-Robots-Tag:noindex
X-PUBLISHED-TTL:PT1H
BEGIN:VTIMEZONE
TZID:Europe/Brussels
BEGIN:DAYLIGHT
TZOFFSETFROM:+0100
TZOFFSETTO:+0200
TZNAME:CEST
DTSTART:20230326T010000
END:DAYLIGHT
BEGIN:STANDARD
TZOFFSETFROM:+0200
TZOFFSETTO:+0100
TZNAME:CET
DTSTART:20231029T010000
END:STANDARD
END:VTIMEZONE
BEGIN:VEVENT
DTSTART;VALUE=DATE:20230708
DTEND;VALUE=DATE:20230709
DTSTAMP:20260424T140838
CREATED:20230409T181113Z
LAST-MODIFIED:20230409T181528Z
UID:998-1688774400-1688860799@www.codecam.be
SUMMARY:2ème édition de la rencontre internationale de la diaspora africaine
DESCRIPTION:Thème : « L’industrialisation de l’Afrique : quelles missions  pour sa diaspora ?
URL:https://www.codecam.be/event/2eme-edition-de-la-rencontre-internationale-de-la-diaspora-africaine/
LOCATION:KORTRIJK (Courtrai) – Belgique\, Belgique\, KORTRIJK (Courtrai)\, Belgium
END:VEVENT
END:VCALENDAR