BEGIN:VCALENDAR
VERSION:2.0
PRODID:-//Codecam - ECPv6.0.13//NONSGML v1.0//EN
CALSCALE:GREGORIAN
METHOD:PUBLISH
X-WR-CALNAME:Codecam
X-ORIGINAL-URL:https://www.codecam.be
X-WR-CALDESC:Events for Codecam
REFRESH-INTERVAL;VALUE=DURATION:PT1H
X-Robots-Tag:noindex
X-PUBLISHED-TTL:PT1H
BEGIN:VTIMEZONE
TZID:Europe/Brussels
BEGIN:DAYLIGHT
TZOFFSETFROM:+0100
TZOFFSETTO:+0200
TZNAME:CEST
DTSTART:20230326T010000
END:DAYLIGHT
BEGIN:STANDARD
TZOFFSETFROM:+0200
TZOFFSETTO:+0100
TZNAME:CET
DTSTART:20231029T010000
END:STANDARD
END:VTIMEZONE
BEGIN:VEVENT
DTSTART;VALUE=DATE:20230802
DTEND;VALUE=DATE:20230805
DTSTAMP:20260422T175836
CREATED:20230409T180713Z
LAST-MODIFIED:20230409T181443Z
UID:994-1690934400-1691193599@www.codecam.be
SUMMARY:3ème édition de la conférence nationale pour l’entrepreneuriat jeune au Cameroun
DESCRIPTION:Thème : « L’industrialisation de l’Afrique : quelles missions  pour sa diaspora ?
URL:https://www.codecam.be/event/3eme-edition-de-la-conference-nationale-pour-lentrepreneuriat-jeune-au-cameroun/
LOCATION:Bertoua Est – Cameroun\, Bertoua Est\, Cameroon
END:VEVENT
END:VCALENDAR