BEGIN:VCALENDAR
VERSION:2.0
PRODID:-//Codecam - ECPv6.0.13//NONSGML v1.0//EN
CALSCALE:GREGORIAN
METHOD:PUBLISH
X-WR-CALNAME:Codecam
X-ORIGINAL-URL:https://www.codecam.be
X-WR-CALDESC:Events for Codecam
REFRESH-INTERVAL;VALUE=DURATION:PT1H
X-Robots-Tag:noindex
X-PUBLISHED-TTL:PT1H
BEGIN:VTIMEZONE
TZID:Europe/Brussels
BEGIN:DAYLIGHT
TZOFFSETFROM:+0100
TZOFFSETTO:+0200
TZNAME:CEST
DTSTART:20230326T010000
END:DAYLIGHT
BEGIN:STANDARD
TZOFFSETFROM:+0200
TZOFFSETTO:+0100
TZNAME:CET
DTSTART:20231029T010000
END:STANDARD
END:VTIMEZONE
BEGIN:VEVENT
DTSTART;VALUE=DATE:20230702
DTEND;VALUE=DATE:20230710
DTSTAMP:20260424T103424
CREATED:20230404T145415Z
LAST-MODIFIED:20230418T223543Z
UID:309-1688256000-1688947199@www.codecam.be
SUMMARY:6ème édition de la mission économique africaine en Belgique
DESCRIPTION:MODALITÉS DE LA PARTICIPATION À LA MISSION\n \n\n\nMODALITES et DOCUMENTS à FOURNIR POUR LA DEMANDE DE VISA Mission éco 02 au 09 JUILLET 2023 en Belgique\n \n\n\nFICHE INSCRIPTION POUR 6ème ÉDITION MISSION ÉCONOMIQUE AFRICAINE EN Belgique DU 02 AU 09 JUILLET 2023\n \n\n\nDDOCUMENT A FOURNIR POUR LA DEMANDE DE VISA PROFESSIONEL\n\n			\n						FICHE D’INSCRIPTION EN LIGNE
URL:https://www.codecam.be/event/6eme-edition-de-la-mission-economique-africaine-en-belgique/
LOCATION:Bruxelles et  Kortrijk – Belgique\, Bruxelles et Kortrijk\, Bruxelles et Kortrijk\, Belgium
ATTACH;FMTTYPE=image/jpeg:https://www.codecam.be/wp-content/uploads/2023/04/DEPLIANT-6eme-EDITION-MISSION-ECONOMIQUE-AFRICAINE-EN-BELGIQUE-DU-02-AU-09-JUILLET-2023-Comp_page-0001-1.jpg
END:VEVENT
END:VCALENDAR